BEGIN:VCALENDAR
METHOD:PUBLISH
PRODID:www-linguistik-phil-fau-de//Events//EN
VERSION:2.0
BEGIN:VEVENT
SUMMARY:Vortrag: Alexander Piperski - Visual interfaces for concordanc
 e reading
UID:5ED5A2E7-B66C-4597-A8D6-D229ED2B1388
DTSTART:20250521T141500Z
DTEND:20250521T154500Z
LOCATION:online (Zoom)
DTSTAMP:20260422T232357Z
END:VEVENT
END:VCALENDAR